BEGIN:VCALENDAR
VERSION:2.0
PRODID:-//Montagne Selvagge - ECPv5.14.1//NONSGML v1.0//EN
CALSCALE:GREGORIAN
METHOD:PUBLISH
X-WR-CALNAME:Montagne Selvagge
X-ORIGINAL-URL:https://www.montagneselvagge.com
X-WR-CALDESC:Eventi per Montagne Selvagge
BEGIN:VTIMEZONE
TZID:UTC
BEGIN:STANDARD
TZOFFSETFROM:+0000
TZOFFSETTO:+0000
TZNAME:UTC
DTSTART:20250101T000000
END:STANDARD
END:VTIMEZONE
BEGIN:VEVENT
DTSTART;VALUE=DATE:20250427
DTEND;VALUE=DATE:20250428
DTSTAMP:20260425T184932
CREATED:20250331T104623Z
LAST-MODIFIED:20250331T132434Z
UID:13890-1745712000-1745798399@www.montagneselvagge.com
SUMMARY:Escursione guidata alla Grotta di San Benedetto
DESCRIPTION:Domenica 27 aprile \n\n\n\nEscursione guidata alla Grotta di San Benedetto\, osservazione della fauna selvatica e del volo del grifone \nAll’interno delle nostre escursioni in Abruzzo\, offriamo questa splendida esperienza\, disponibile sia su richiesta che come parte del programma. Un’opportunità imperdibile per esplorare la bellezza incontaminata delle regione! \nLa montagna\, oltre ad offrire panorami stupendi\, custodisce posti che narrano la storia di eremiti\, santi e briganti. \nUno di questi posti si trova a 1670m sul Monte Velino\, nel Parco Naturale Regionale Sirente Velino\, e parliamo della Grotta di San Benedetto\, chiamata anche Grotta del Cristiano; luogo che porta il visitatore a conoscere antiche storie. \nLa grotta è larga più di venti metri ed è divisa da due parti comunicanti tramite una breve galleria. Dall’ingresso\, ampio e alto\, si passa in una zona più piccola che viene illuminata da una finestra sul cielo. Sul bordo di questa finestra vi è una campanella che i visitatori sono soliti suonare all’arrivo in grotta. \n \n\nDa Peschio Rovicino a Casale da Monte e alla Grotta di San Benedetto (1670 m) \n\nDislivello: 600 m ca\nDurata a/r: 6 ore (soste incluse)\nDifficoltà: E\nLunghezza a/r: 11 km ca\n\nAppuntamento: ore 9.00 presso il paese di Forme (Aq)\, il punto preciso verrà comunicato in fase di prenotazione. \n \n \n \n\nL’escursione verrà guidata da un Accompagnatore di Media Montagna/Maestro di Escursionismo iscritto al Collegio Regionale delle Guide Alpine Abruzzo e International Mountain Leader UIMLA che\, oltre a portarvi nel punto prestabilito con la massima professionalità ed esperienza\, vi darà informazioni utili\, illustrando flora\, fauna e geologia del territorio\, senza tralasciare le tradizioni\, le leggende e la cultura. \nAvremo la possibilità di osservare il maestoso volo del Gyps Fulvus\, ovvero il grifone\, l’avvoltoio del vecchio mondo\, che con i suoi 2\,80 m circa di apertura alare ci regalerà grandi emozioni… ma non solo lui! Tutto il percorso sarà emozionante\, dalla partenza all’arrivo\, dove godremo di panorami indimenticabili. \nLe rocce ai piedi del Canalone e della crest Sud su ovest del Velino ospitano la Grotta di San Benedetto divisa in due ambienti\, e che si apre in una parete verticale a 1670 m. \nIl sito è meta di pellegrinaggio per la gente dei paesi vicini\, che da questa grotta ammirano spettacolari panorami sulla piana del Fucino. \nPrima dell’entrata in grotta c’è un tratto attrezzato con catena di circa 10 metri. \nLa vera storia della Grotta di San Benedetto \n \n \n \n  \n\nLa guida si riserva il diritto di modificare programma e itinerari\, in base a valutazioni personali per la sicurezza del gruppo e in base alle condizioni meteo. Il programma sarà annullato se non si raggiungerà il numero minimo di partecipanti. \nObbligatoria la prenotazione entro le 20.00 del giorno prima \nLa guida si riserva di escludere le persone che non hanno un equipaggiamento adeguato. \nMin 5 – Max 12 partecipanti \n\nCosti dell’escursione guidata: \n€ 25 a persona\, comprensivo di escursione guidata a cura di un Accompagnatore di Media Montagna/ Maestro di Escursionismo del Collegio Regionale Guide Alpine Abruzzo\, segreteria\, copertura assicurativa (Rct professionale) per tutta la durata dell’evento. \nIn montagna le condizioni meteorologiche cambiano con grande facilità. Occorre essere preparati a repentini annuvolamenti e pioggia\, per cui è calorosamente consigliato un equipaggiamento adeguato\, in grado di far fronte a qualunque evenienza. \nIl modo migliore per tenere sempre sotto controllo la propria temperatura corporea è probabilmente quello di vestirsi a strati: uno strato primario per regolare la traspirazione\, uno strato intermedio capace di mantenere la temperatura corporea costante ed uno strato superiore per proteggersi dagli agenti esterni \nMateriale ed Equipaggiamento: \nZaino da montagna\, scarpe da trekking\, bastoncini telescopici\, maglietta\, pile o maglione\, cappello\, guanti\, giacca a vento impermeabile\, pantaloni comodi\, maglietta di ricambio\, medicinali personali\, borraccia per l’acqua (1\,5 lt)\, sali minerali\, frutta secca\, pranzo al sacco. \n\nInfo e prenotazioni: \n3382717448 (anche whatsapp) \nEntra nel nuovo canale WhatsApp di Montagne Selvagge\n\nMontagne Selvagge – escursioni guidate nelle selvagge bellezze d’Abruzzo. \nPer essere aggiornati su tutte le nostre attività potete inviarci un messaggio tramite whatsapp al numero 3382717448 e riceverete individualmente i nostri aggiornamenti. \n \n  \n\n\n\n			Share on FacebookTweet
URL:https://www.montagneselvagge.com/event/13890/
CATEGORIES:Escursione guidata
ATTACH;FMTTYPE=image/jpeg:https://www.montagneselvagge.com/wp-content/uploads/2025/03/Marrone-e-Beige-Moderno-Centro-Estetico-Copertina-di-Facebook-1-1.jpg
ORGANIZER;CN="Ercole%20Wild%20-%20Accompagnatore%20di%20Media%20Montagna%2C%20Maestro%20di%20Escursionismo%20-%20International%20Mountain%20Leader":MAILTO:info@montagneselvagge.com
END:VEVENT
END:VCALENDAR