BEGIN:VCALENDAR
VERSION:2.0
PRODID:-//Montagne Selvagge - ECPv5.14.1//NONSGML v1.0//EN
CALSCALE:GREGORIAN
METHOD:PUBLISH
X-WR-CALNAME:Montagne Selvagge
X-ORIGINAL-URL:https://www.montagneselvagge.com
X-WR-CALDESC:Eventi per Montagne Selvagge
BEGIN:VTIMEZONE
TZID:UTC
BEGIN:STANDARD
TZOFFSETFROM:+0000
TZOFFSETTO:+0000
TZNAME:UTC
DTSTART:20190101T000000
END:STANDARD
END:VTIMEZONE
BEGIN:VEVENT
DTSTART;VALUE=DATE:20190303
DTEND;VALUE=DATE:20190304
DTSTAMP:20260421T210642
CREATED:20190225T172106Z
LAST-MODIFIED:20190225T172106Z
UID:5857-1551571200-1551657599@www.montagneselvagge.com
SUMMARY:Alla Grotta di San Benedetto: tra grifoni\, storia e natura.
DESCRIPTION:Domenica 3 marzo 2019\nParco Naturale Regionale Sirente Velino \n  \n \n\nEscursione guidata alla Grotta di San Benedetto e osservazione del volo del grifone.\nDa Casale da Monte alla Grotta di San Benedetto (1610 m) \nDislivello: 550 m ca\nDurata a/r: 5 ore (soste incluse)\nDifficoltà: E \nAppuntamento e partenza ore 9.00 al Rifugio Casale da Monte nel comune di Massa d’Albe\, in località Forme. \n \n\nHenry David Thoreau disse che “la salvezza del mondo è nella natura selvaggia“\, ancor di più in un’epoca come questa\, dove le moderne abitudini ci deviano dalla semplicità di cui abbiamo bisogno per stare bene veramente: vita all’aria aperta\, camminare e tornare alla natura. \nAvremo la possibilità di osservare il maestoso volo del Gyps Fulvus\, ovvero il grifone\, l’avvoltoio del vecchio mondo\, che con i suoi 2\,80 m circa di apertura alare ci regalerà grandi emozioni\, ma non solo lui! Tutto il percorso sarà emozionante\, dalla partenza all’arrivo\, dove godremo di panorami indimenticabili. Incontreremo le tracce del lupo\, del cervo e del cinghiale e impareremo a riconoscerle per capire meglio gli abitanti del bosco. \n \nLe rocce ai piedi del Canalone e della crest Sud su ovest del Velino ospitano la Grotta di San Benedetto divisa in due ambienti\, e che si apre in una parete verticale a 1610 m.\nIl sito è meta di pellegrinaggio per la gente dei paesi vicini\, che da questa grotta ammirano spettacolari panorami sulla piana del Fucino\, dove una volta c’era un bellissimo lago: il dio Fucino\, cosi’ era chiamato dagli antichi marsi\, terzo in Italia per grandezza. Il lago fu prosciugato definitivamente nella seconda metà del XIX secolo da Alessandro Torlonia. I nostri sguardi andranno anche sui Piani Palentini\, dove nel 1268 fu combattuta la famosa “Battaglia di Tagliacozzo”\, tra Corradino di Svevia e Carlo d’Angiò… e arriveranno ad ammirare le bellezze dei Monti Simbruini e Carseolani. \n \nL’escursione verrà guidata da un Accompagnatore di Media Montagna e Maestro di Escursionismo iscritto al Collegio Regionale delle Guide Alpine Abruzzo che\, oltre a portarvi nel punto prestabilito con la massima professionalità ed esperienza\, vi darà informazioni utili\, illustrando flora\, fauna e geologia del territorio\, senza tralasciare le tradizioni\, le leggende e la cultura. \n\nIl programma potrà subire variazioni in base alle condizioni meteo e sarà annullato se non si raggiungerà il numero minimo di partecipanti.\nObbligatoria la prenotazione entro le 20.00 del giorno prima.\nLa guida si riserva di escludere le persone che non hanno un equipaggiamento adeguato. \nMin 5 – Max 18 partecipanti \n\nCosti dell’escursione guidata:\n€ 15 a persona\, comprensivo di escursione guidata a cura di un Accompagnatore di Media Montagna/ Maestro di Escursionismo del Collegio Regionale Guide Alpine Abruzzo e copertura assicurativa per tutta la durata dell’evento. \n\nIl modo migliore per tenere sempre sotto controllo la propria temperatura corporea è probabilmente quello di vestirsi a strati: uno strato primario per regolare la traspirazione\, uno strato intermedio capace di mantenere la temperatura corporea costante ed uno strato superiore per proteggersi dagli agenti esterni \nMateriale ed Equipaggiamento:\nZaino da montagna\, scarpe da trekking\, bastoncini telescopici (facoltativi)\, maglietta\, pile o maglione\, giacca a vento impermeabile\, pantaloni\, medicinali personali\, borraccia per l’acqua (1\,5 lt)\, sali minerali\, frutta secca\, pranzo al sacco. \n\nInfo e prenotazioni:\nAccompagnatore di Media Montagna\n3382717448\, info@montagneselvagge.com \n\nMontagne Selvagge – escursioni guidate nelle selvagge bellezze d’Abruzzo.\nPer essere aggiornati su tutte le nostre attività potete iscrivervi alla newsletter di www.montagneselvagge.com\, inserendo la vostra email e i vostri dati nell’apposita sezione. Oppure inviaci un messaggio tramite whatsapp al numero 3382717448 e riceverete individualmente i nostri aggiornamenti. \n  \n     \n\n			Share on FacebookTweet
URL:https://www.montagneselvagge.com/event/alla-grotta-di-san-benedetto-tra-grifoni-storia-e-natura/
CATEGORIES:Escursione guidata
ATTACH;FMTTYPE=image/jpeg:https://www.montagneselvagge.com/wp-content/uploads/2018/08/33438330_1037036569782323_4279683753661431808_n.jpg
ORGANIZER;CN="Ercole%20Marchionni%20-%20Accompagnatore%20di%20Media%20Montagna%2FMaestro%20di%20Escursionismo%20del%20Collegio%20Guide%20Alpine%20Abruzzo":MAILTO:info@montagneselvagge.com
END:VEVENT
END:VCALENDAR