BEGIN:VCALENDAR
VERSION:2.0
PRODID:-//Montagne Selvagge - ECPv5.14.1//NONSGML v1.0//EN
CALSCALE:GREGORIAN
METHOD:PUBLISH
X-WR-CALNAME:Montagne Selvagge
X-ORIGINAL-URL:https://www.montagneselvagge.com
X-WR-CALDESC:Eventi per Montagne Selvagge
BEGIN:VTIMEZONE
TZID:UTC
BEGIN:STANDARD
TZOFFSETFROM:+0000
TZOFFSETTO:+0000
TZNAME:UTC
DTSTART:20220101T000000
END:STANDARD
END:VTIMEZONE
BEGIN:VEVENT
DTSTART;VALUE=DATE:20220730
DTEND;VALUE=DATE:20220801
DTSTAMP:20260426T024750
CREATED:20220710T101315Z
LAST-MODIFIED:20220710T121136Z
UID:10143-1659139200-1659311999@www.montagneselvagge.com
SUMMARY:Due giorni di trekking con pernotto in rifugio.
DESCRIPTION:Camminare… \nNon consiste nel guadagnare tempo\, ma di perderlo con eleganza. Non si tratta di essere presi dal tempo\, ma di riprendersi il proprio tempo. \n30 e 31 luglio \nParco Naturale Regionale Sirente Velino \nDue giorni di trekking nelle selvagge emozioni di Madre Natura: tra vette\, grotte\, tramonto\, boschi\, animali selvatici\, storia\, arte\, cultura\, leggende\, tradizioni. \nPer conoscere la bellezza della vita all’aria aperta e la magica atmosfera dei rifugi di montagna. \nOsserveremo il volo del grifone alle pendici del Monte Velino e il passo del cervo\, seguiremo le tracce degli animali selvatici\, ed impareremo a riconoscerle\, così come la flora più rappresentativa del posto. Osserveremo la fauna selvatica dalla giusta distanza\, osservando i suoi comportamenti naturali. Gusteremo i magnifici panorami che dalle altezze creano indimenticabili emozioni e\, se fortunati\, ascolteremo l’ululato del lupo dal rifugio in cui pernotteremo. \nLe ricchezze del Parco Regionale Sirente Velino e della Riserva Naturale Monte Velino non sono solo nella loro natura\, ma anche nel loro prezioso patrimonio di storia\, cultura e tradizioni\, ereditato da un passato che ha contribuito a definire l’identità di questo territorio e della sua comunità e i cui segni sono ancora oggi ben conservati ed apprezzabili. \n \n\nProgramma: \nSabato 30 luglio 2022 \nArrivo nel paese di Forme (Aq)\, situato nel comune di Massa d’Albe\, alle ore 15.30\, spostamento con  le proprie macchine verso il parcheggio del Rifugio Casale da Monte (10 min)\, sistemazione\, presentazione del programma e inizio escursione guidata. \nEscursione guidata con antichi racconti \nDal Rifugio Casale da Monte a Colle Pelato \n\nDislivello: 300 m\nDurata totale: 4 ore\, soste incluse\nLunghezza: 6 km a/r\nDifficoltà: E\n\nC’è un mondo in cui lupi\, alberi\, orsi e silenzi ti parlano delicatamente; in un discorso interiore privo di doppi fini e giochi di potere. Raccontano della loro patria: la natura selvaggia. \nIl loro vivere in simbiosi con la libertà che sveglia e risveglia la parte più bella\, antica e naturale di te. \nDurante l’escursione guidata verranno letti racconti della vita di un tempo\, antiche storie e leggende di magiche creature dei boschi. \nOre 20.00 – Inizio cena \n  \n \n  \n \n  \n\nDomenica 31 luglio 2022 \nEscursione guidata sul Monte il Bicchero dalla Valle Majelama \nAttraverso una delle valli più belle dell’Appennino: la Valle Majelama \nOre 8.00 – Partenza dal Rifugio Casale da Monte \nAffascinante itinerario che conduce\, in ambiente solitario e selvaggio\, fino alla vetta del Monte il Bicchero (2161 m)\, percorrendo la Valle Majelama e il Vallone del Bicchero\, entrambi originati dall’azione degli antichi ghiacciai. \nL’escursione proposta parte dalla località Peschio Rovicino\, un paio di chilometri a Nord Ovest dall’abitato di Forme\, nel comune di Massa d’Albe (Aq)\, e procede attraverso la valle. \nProseguendo in salita\, la valle cambia nome e diventa “del Bicchero”\, dall’omonimo monte che divide questo versante dal vallone di Teve. Il sentiero continua a salire presso l’ampio vallone del Bicchero\, fino ad arrivare alla sella\, a quota 2075 m\, fra il Bicchero e Punta Trento. Raggiunta quest’area si prende a sinistra e si sale la comoda crestina che porta ai 2161 metri del Bicchero. \nDalla vetta il panorama è magnifico e si apre una vista imponente sulle vette del massiccio del Velino e delle Montagne della Duchessa. \n\nDislivello: 1100 m ca\nDurata a/r: 7 ore ca (soste incluse)\nLunghezza a/r: 14 km\nDifficoltà: EE\n\n  \n   \n\nLe escursioni verranno guidate da un Accompagnatore di Media Montagna e Maestro di Escursionismo iscritto al Collegio Regionale delle Guide Alpine Abruzzo che\, oltre a portarvi nel punto prestabilito con la massima professionalità ed esperienza\, vi darà informazioni utili\, illustrando flora\, fauna e geologia del territorio\, senza tralasciare le tradizioni\, le leggende e la cultura. \nLa guida si riserva il diritto di modificare programma e itinerari\, in base a valutazioni personali per la sicurezza del gruppo e in base alle condizioni meteo. Il programma sarà annullato se non si raggiungerà il numero minimo di partecipanti. \nRichiesto spirito di adattamento e un buon allenamento fisico \nComunicare cortesemente eventuali intolleranze alimentari. Possibilità di cena e pranzo al sacco vegetariani \nMin 8 – Max 15 partecipanti \nPrenotazione obbligatoria entro il 26 luglio \n\nIl modo migliore per tenere sempre sotto controllo la propria temperatura corporea è probabilmente quello di vestirsi a strati: uno strato primario per regolare la traspirazione\, uno strato intermedio capace di mantenere la temperatura corporea costante ed uno strato superiore per proteggersi dagli agenti esterni \nCosa portare? \nMATERIALE E EQUIPAGGIAMENTO durante l’escursione: \nZaino da montagna\, scarpe da trekking\, bastoncini telescopici\, maglietta\, pile o maglione\, giacca a vento impermeabile\, pantaloni comodi per la camminata\, maglietta di ricambio\, cappello\, guanti\, medicinali personali\, sacchetti biodegradabili per immondizia\, borraccia per l’acqua (2 litri)\, sali minerali\, frutta secca\, pranzo al sacco. \nMATERIALE E EQUIPAGGIAMENTO per il pernotto in rifugio \nZaino/borsa\, scarpe di ricambio\, sacco a pelo o coperte\, maglietta di ricambio\, pile\, ricambi (calze\, mutande\, maglie)\, una tuta per la notte\, crema idratante\, piccolo kit pronto soccorso\, medicinali personali\, dentifricio\, spazzolino\, torcia elettrica frontale con pile di ricambio. \n\nIl pernotto nel Rifugio Casale da Monte è in due camerate da 10 posti l’una\, con letti a castello e un bagno in comune \nNel Rifugio non sarà possibile fare la doccia. \nNel rifugio dopo le 22.30 non ci sarà più la corrente. \n\nQuota di partecipazione: \n€ 130 a persona \nComprensivo di: \n\nDue escursioni guidate\nGuida escursionistica a disposizione per l’intero evento\nGestione logistica\nOrganizzazione\nUn pernotto\nUna cena (tagliere\, primo\, secondo\, contorno\, 1 lt di acqua e 1 lt di vino ogni quattro persone\, caffè\, amaro)\nUna colazione (the o latte e caffè\, trancio di crostata o fette biscottate con confettura)\nUn pranzo al sacco (2 panini\, frutto\, acqua)\nSegreteria\nAssicurazione (Rct professionale)\n\n\nInfo e prenotazioni: \n3382717448\, info@montagneselvagge.com \nwww.montagneselvagge.com \n\nPer essere aggiornati su tutte le nostre attività potete iscrivervi alla newsletter di www.montagneselvagge.com\, inserendo la vostra email e i vostri dati nell’apposita sezione. Oppure inviaci un messaggio tramite whatsapp al numero 3382717448 e riceverete individualmente i nostri aggiornamenti. \n  \n \n \n\n			Share on FacebookTweet
URL:https://www.montagneselvagge.com/event/due-giorni-di-trekking-con-pernotto-in-rifugio/
CATEGORIES:Trekking
ATTACH;FMTTYPE=image/jpeg:https://www.montagneselvagge.com/wp-content/uploads/2022/07/A-Backpacker-Abroad.jpg
ORGANIZER;CN="Ercole%20Wild%20-%20Accompagnatore%20di%20Media%20Montagna%2F%20Maestro%20di%20Escursionismo%20del%20Collegio%20Guide%20Alpine%20Abruzzo":MAILTO:info@montagneselvagge.com
END:VEVENT
END:VCALENDAR