BEGIN:VCALENDAR
VERSION:2.0
PRODID:-//Montagne Selvagge - ECPv5.14.1//NONSGML v1.0//EN
CALSCALE:GREGORIAN
METHOD:PUBLISH
X-WR-CALNAME:Montagne Selvagge
X-ORIGINAL-URL:https://www.montagneselvagge.com
X-WR-CALDESC:Eventi per Montagne Selvagge
BEGIN:VTIMEZONE
TZID:UTC
BEGIN:STANDARD
TZOFFSETFROM:+0000
TZOFFSETTO:+0000
TZNAME:UTC
DTSTART:20170101T000000
END:STANDARD
END:VTIMEZONE
BEGIN:VEVENT
DTSTART;VALUE=DATE:20170602
DTEND;VALUE=DATE:20170603
DTSTAMP:20260424T101943
CREATED:20170529T135910Z
LAST-MODIFIED:20170529T135910Z
UID:2448-1496361600-1496447999@www.montagneselvagge.com
SUMMARY:Ecofesta 2017 sul Cammino dei Briganti
DESCRIPTION:  \n \n \nEcofesta 2017 sul Cammino dei Briganti \nVenerdí 2 giugno \nNell’ambito di “ABRUZZO OPEN DAY SUMMER 2017”\, l’Associazione “Forum Ambiente e Cultura” di Rosciolo dei Marsi\, organizza questa bellissima giornata in montagna. \nSul Cammino dei Briganti\, da Rosciolo dei Marsi a Cartore\, con l’esibizione del gruppo teatrale “I Briganti di Cartore”\, e visita guidata alla chiesa di Santa Maria in Valle Porclaneta. \nVerrà presentato il nuovo Calendario dei Briganti 2018. \nEcogiochi dimenticati – Ecolimpiadi per bambini.\n\nPer le vie del borgo di Cartore sarà possibile ammirare una rassegna di quadri di Agata Zamojska\, da titolo “Il Bosco Interiore”. \nA termine escursione visita alla chiesa di Santa Maria in Valle Porclaneta \nDa Cartore si risale al Passo Le Forche\, sotto il Monte Velino\, e si scende a Santa Maria in Valle Porclaneta\, altro luogo carico di suggestioni\, tra le quali una magnifica chiesa romanica\, capolavoro d’arte del X secolo. \nDislivello andata: 250 m ca\nDislivello ritorno: 300 m ca\nDislivello complessivo positivo: 550 ma ca\nDurata: 6 ore ca ( soste incluse)\nDifficoltà: E\nLunghezza a/r: 11 km ca \nAppuntamento e partenza: ore 9\,30 al parcheggio di Santa Maria in Valle Porclaneta \, Rosciolo dei Marsi \nIl programma potrà subire variazioni in base alle condizioni meteo e sarà annullato se non si raggiungerà il numero minimo di partecipanti. \nObbligatoria la prenotazione entro le 12\,00 del giorno prima. \nLa guida si riserva di escludere le persone che non hanno un equipaggiamento adeguato. \nMin 5 – Max 20 partecipanti \nCosti del trekking: \n€ 15 a persona\, comprensivo di escursione guidata a cura di un Accompagnatore di Media Montagna/ Maestro di Escursionismo del Collegio Regionale Guide Alpine Abruzzo e copertura assicurativa per tutta la durata dell’evento. \nPossibilità di pernotto in B&B \nMateriale ed Equipaggiamento: \nZaino da montagna\, scarpe da trekking\, coprizaino per pioggia\, maglietta\, pile o maglione\, giacca a vento impermeabile\, pantaloni comodi per la camminata\, maglietta di ricambio\, cappello\, guanti\, medicinali personali\, occhiali da sole\, sacchetti biodegradabili per immondizia\, borraccia per l’acqua (1\,5 lt)\, sali minerali\, frutta secca\, pranzo al sacco. \nInfo e prenotazioni:\n3382717448 (anche whatsapp)\, 3471887769 \n  \n \n \n\n			Share on FacebookTweet
URL:https://www.montagneselvagge.com/event/ecofesta-2017-sul-cammino-dei-briganti/
CATEGORIES:Escursionismo
ATTACH;FMTTYPE=image/jpeg:https://www.montagneselvagge.com/wp-content/uploads/2017/05/18670987_836807336471915_7221078667871208635_n.jpg
END:VEVENT
END:VCALENDAR