BEGIN:VCALENDAR
VERSION:2.0
PRODID:-//Montagne Selvagge - ECPv5.14.1//NONSGML v1.0//EN
CALSCALE:GREGORIAN
METHOD:PUBLISH
X-WR-CALNAME:Montagne Selvagge
X-ORIGINAL-URL:https://www.montagneselvagge.com
X-WR-CALDESC:Eventi per Montagne Selvagge
BEGIN:VTIMEZONE
TZID:UTC
BEGIN:STANDARD
TZOFFSETFROM:+0000
TZOFFSETTO:+0000
TZNAME:UTC
DTSTART:20180101T000000
END:STANDARD
END:VTIMEZONE
BEGIN:VEVENT
DTSTART;VALUE=DATE:20181208
DTEND;VALUE=DATE:20181209
DTSTAMP:20260419T090848
CREATED:20181127T191539Z
LAST-MODIFIED:20181203T184510Z
UID:5340-1544227200-1544313599@www.montagneselvagge.com
SUMMARY:Escursione astronomica e cena in rifugio di montagna
DESCRIPTION:Sabato 8 dicembre 2018 \nEscursione astronomica notturna guidata e cena in rifugio di montagna. Alle pendici del Monte Velino e del Monte Cafornia nel Parco Naturale Regionale Sirente Velino. \n \nFacile escursione notturna per conoscere le stelle e i loro segreti. Osservazione astronomica con telescopio professionale a cura dell’astrofilo Franco Salvati. \n  \nFacile escursione guidata di circa 200 m di dislivello e 4 km\, con illustrazione delle principali costellazioni di fine autunno. Durante la camminata si daranno informazioni utili sulle stelle e le costellazioni: vi si aprirà un mondo nuovo e scoprirete la magia del cielo di notte! Le escursioni in notturna sono un’occasione eccezionale per immergersi in un’atmosfera meravigliosa e per lasciarsi sedurre dalla natura che ci dona la magia del suo volto più intimo e nascosto. \nDurante l’escursione si faranno racconti sulle leggende del bosco e sui miti delle stelle. \nUn’esperienza che ti permetterà anche di vivere la magica atmosfera dei rifugi di montagna. \nOsservazione astronomica con telescopio professionale di ammassi di stelle\, galassie\, nebulose\, costellazioni e pianeti. La serata\, in particolare\, verrà dedicata alle costellazioni di Cassiopea\, Perseo e Andromeda. \n \nIn caso di cielo coperto dalle nuvole\, con impossibilità di ammirare le stelle\, l’escursione sarà prevista ugualmente e ci saranno letture fantastiche e di montagna. \n\n \nLa strumentazione in uso nelle serate escursionistiche astronomiche notturne guidate\, consiste in un telescopio a schema ottico Newton con diametro dello specchio/obiettivo di 635mm\, rapporto focale f5 e focale di 3200mm. Con questo telescopio è possibile osservare stelle\, ammassi di stelle\, nebulose\, nebulose planetarie\, galassie\, pianeti. \n\nAppuntamenti: Inizio escursione ore 17.00 presso il Rifugio Casale da Monte\, nel comune di Forme (Aq). \nOre 20.00 inizio cena. \nDopo cena ci sarà l’osservazione astronomica con telescopio professionale a cura dell’astrofilo Franco Salvati. \n\nIl programma potrà subire variazioni in base alle condizioni meteo e sarà annullato se non si raggiungerà il numero minimo di partecipanti. \nObbligatoria la prenotazione entro le 11.00 del giorno stesso \n  \nMin. 8 – Max. 20 partecipanti per l’escursione \n\nCosto escursione guidata e osservazione astronomica: \n€ 15 a persona\, comprensivo di escursione guidata a cura di un Accompagnatore di Media Montagna/ Maestro di Escursionismo del Collegio Regionale Guide Alpine Abruzzo\, copertura assicurativa per tutta la durata dell’evento (RC Professionale) e osservazione astronomica con telescopio professionale. \n \nCosto cena: \nMenù e prezzi \n€ 20\, menù fisso comprensivo di primo\, secondo\, vino e acqua. \n\nMateriale ed Equipaggiamento: \nZaino da montagna\, scarpe da trekking\, lampada frontale o torcia a mano\, bastoncini telescopici (facoltativi)\, maglietta\, pile o maglione\, giacca a vento impermeabile\, pantaloni comodi per la camminata\, cappello\, guanti. \n\nInfo e prenotazioni: \n3382717448 (anche whatsapp) \ninfo@montagneselvagge.com \nwww.montagneselvagge.com \n  \n\nPer essere aggiornati su tutte le nostre attività potete iscrivervi alla newsletter di www.montagneselvagge.com\, inserendo la vostra email e i vostri dati nell’apposita sezione. Oppure inviaci un messaggio tramite whatsapp al numero 3382717448 e riceverete individualmente i nostri aggiornamenti \n  \n     \n\n			Share on FacebookTweet
URL:https://www.montagneselvagge.com/event/escursione-astronomica-e-cena-in-rifugio-di-montagna/
CATEGORIES:Escursione astronomica,Escursione guidata
ATTACH;FMTTYPE=image/jpeg:https://www.montagneselvagge.com/wp-content/uploads/2017/10/DSC_5535.jpg
ORGANIZER;CN="Ercole%20Marchionni%20-%20Accompagnatore%20di%20Media%20Montagna%2FMaestro%20di%20Escursionismo%20del%20Collegio%20Guide%20Alpine%20Abruzzo":MAILTO:info@montagneselvagge.com
END:VEVENT
END:VCALENDAR