BEGIN:VCALENDAR
VERSION:2.0
PRODID:-//Montagne Selvagge - ECPv5.14.1//NONSGML v1.0//EN
CALSCALE:GREGORIAN
METHOD:PUBLISH
X-WR-CALNAME:Montagne Selvagge
X-ORIGINAL-URL:https://www.montagneselvagge.com
X-WR-CALDESC:Eventi per Montagne Selvagge
BEGIN:VTIMEZONE
TZID:UTC
BEGIN:STANDARD
TZOFFSETFROM:+0000
TZOFFSETTO:+0000
TZNAME:UTC
DTSTART:20180101T000000
END:STANDARD
END:VTIMEZONE
BEGIN:VEVENT
DTSTART;VALUE=DATE:20180813
DTEND;VALUE=DATE:20180814
DTSTAMP:20260421T144523
CREATED:20180731T122722Z
LAST-MODIFIED:20180731T122723Z
UID:4646-1534118400-1534204799@www.montagneselvagge.com
SUMMARY:Escursione Astronomica notturna dal Rifugio Casale da Monte
DESCRIPTION:13 agosto 2018 \nEscursione astronomica notturna guidata e cena in rifugio di montagna. Alle pendici del Monte Velino e del Monte Cafornia nel Parco Naturale Regionale Sirente Velino. \nFacile escursione notturna per conoscere le stelle e i loro segreti. Osservazione astronomica con telescopio professionale a cura dell’astrofilo Franco Salvati. \n  \n \nFacile escursione guidata di circa 200 m di dislivello e 4 km\, con illustrazione delle principali costellazioni estive. Durante la camminata si daranno informazioni utili sulle stelle e le costellazioni: vi si aprirà un mondo nuovo e scoprirete la magia del cielo di notte! Le escursioni in notturna sono un’occasione eccezionale per immergersi in un’atmosfera meravigliosa e per lasciarsi sedurre dalla natura che ci dona la magia del suo volto più intimo e nascosto.\nUn’esperienza che ti permetterà anche di vivere la magica atmosfera dei rifugi di montagna.\nOsservazione astronomica con telescopio professionale di ammassi di stelle\, galassie\, nebulose\, costellazioni e pianeti. La serata\, in particolare\, verrà dedicata alle stelle Altair\, Deneb e Vega ed il Triangolo estivo \n \n\nLa strumentazione in uso nelle serate escursionistiche astronomiche notturne guidate\, consiste in un telescopio a schema ottico Newton con diametro dello specchio/obiettivo di 635mm\, rapporto focale f5 e focale di 3200mm. Con questo telescopio è possibile osservare stelle\, ammassi di stelle\, nebulose\, nebulose planetarie\, galassie\, pianeti. \n \n  \n\nAppuntamenti: Inizio escursione ore 21.30 presso il Rifugio Casale da Monte\, nel comune di Forme (Aq).\nOre 19.45 inizio cena \n\nIl programma potrà subire variazioni in base alle condizioni meteo e sarà annullato se non si raggiungerà il numero minimo di partecipanti.\nObbligatoria la prenotazione entro le 11.00 del giorno stesso \nMin. 8 – Max. 20 partecipanti per l’escursione\nMin. 10 persone per la cena in rifugio (possibilità di menù per vegetariani)\n_________________________\nCosto escursione guidata e osservazione astronomica:\n€ 20 a persona\, comprensivo di escursione guidata a cura di un Accompagnatore di Media Montagna/ Maestro di Escursionismo del Collegio Regionale Guide Alpine Abruzzo\, copertura assicurativa per tutta la durata dell’evento (RC Professionale) e osservazione astronomica con telescopio professionale. \nCosto cena:\nMenù e prezzi \nTagliere del Casale\n(Formaggio\, salumi vari\, verdure grigliate e bruschetta)\n1° piatto\n(Es. Tagliatelle Rosse o Tagliatelle del Casale o Tagliatelle alla pastora o Tagliatelle asparagi/salsiccia o Spaghetti cacio e pepe o Spaghetti aglio olio)\n1L VINO + 1L ACQUA ogni 4 persone\nCOSTO € 18\n_____________________________________________\n1° piatto\n(Come sopra)\n2° Agnello\, salsiccia alla brace\nContorno:\nPatate al forno o verdure\n1L VINO + 1L ACQUA ogni 4 persone\nCOSTO € 20\n_______________________________________\nTagliere\n1° piatto\n2° piatto + contorno\nMacedonia o frutta fresca\nCaffè\n1L VINO + 1L ACQUA ogni 4 persone\nCOSTO € 23 \n\n_______________________________________________ \nMateriale ed Equipaggiamento:\nZaino da montagna\, scarpe da trekking\, lampada frontale\, bastoncini telescopici (facoltativi)\, maglietta\, pile o maglione\, giacca a vento impermeabile\, pantaloni comodi per la camminata\, cappello\, guanti\, medicinali personali\, borraccia per l’acqua (1 lt). \nInfo e prenotazioni:\nErcole Marchionni 3382717448\ninfo@montagneselvagge.com\nwww.montagneselvagge.com \n\nPer essere aggiornati su tutte le nostre attività potete iscrivervi alla newsletter di www.montagneselvagge.com\, inserendo la vostra email e i vostri dati nell’apposita sezione. Oppure inviaci un messaggio tramite whatsapp al numero 3382717448 e riceverete individualmente i nostri aggiornamenti \n\n   \n\n			Share on FacebookTweet
URL:https://www.montagneselvagge.com/event/escursione-astronomica-notturna-dal-rifugio-casale-da-monte-2/
CATEGORIES:Escursione astronomica
ATTACH;FMTTYPE=image/jpeg:https://www.montagneselvagge.com/wp-content/uploads/2018/07/DSC_8432_00001.jpg
ORGANIZER;CN="Ercole%20Marchionni%20-%20Accompagnatore%20di%20Media%20Montagna%2FMaestro%20di%20Escursionismo%20del%20Collegio%20Guide%20Alpine%20Abruzzo":MAILTO:info@montagneselvagge.com
END:VEVENT
END:VCALENDAR