BEGIN:VCALENDAR
VERSION:2.0
PRODID:-//Montagne Selvagge - ECPv5.14.1//NONSGML v1.0//EN
CALSCALE:GREGORIAN
METHOD:PUBLISH
X-WR-CALNAME:Montagne Selvagge
X-ORIGINAL-URL:https://www.montagneselvagge.com
X-WR-CALDESC:Eventi per Montagne Selvagge
BEGIN:VTIMEZONE
TZID:UTC
BEGIN:STANDARD
TZOFFSETFROM:+0000
TZOFFSETTO:+0000
TZNAME:UTC
DTSTART:20250101T000000
END:STANDARD
END:VTIMEZONE
BEGIN:VEVENT
DTSTART;VALUE=DATE:20251026
DTEND;VALUE=DATE:20251027
DTSTAMP:20260421T144717
CREATED:20251019T115823Z
LAST-MODIFIED:20251019T120407Z
UID:14557-1761436800-1761523199@www.montagneselvagge.com
SUMMARY:Escursione guidata dal borgo di Villalago al Lago e all’Eremo di San Domenico\, nella Valle del Sagittario
DESCRIPTION:Domenica 26 ottobre \nEscursione guidata dal borgo di Villalago al Lago e all’Eremo di San Domenico\, nella Valle del Sagittario \nRiserva Naturale Regionale del Lago di San Domenico e Lago Pio \nAll’interno delle nostre escursioni in Abruzzo\, organizziamo questa splendida esperienza\, disponibile sia su richiesta che come parte del programma. Un’opportunità imperdibile per esplorare la bellezza incontaminata della regione! \nAppuntamento: ore 9.00 presso la piazza del paese di Villalago\, il punto preciso verrà comunicato in fase di prenotazione. \n \n \n \n  \n \n\nCi sono luoghi in cui la natura sembra custodire il segreto della serenità. Paesaggi in cui il silenzio si mescola ai suoni della montagna\, ai richiami degli animali selvatici e al fruscio del vento tra gli alberi. Uno di questi luoghi straordinari è la Riserva Naturale Regionale del Lago di San Domenico e Lago Pio\, incastonata nel cuore dell’alta Valle del Sagittario\, un angolo d’Abruzzo che sembra uscito da una cartolina. \nQuesta escursione è un viaggio attraverso storia\, spiritualità e natura incontaminata. Un’esperienza che permette di immergersi nei paesaggi montani\, scoprire antichi borghi\, sentieri nascosti e luoghi di profonda spiritualità\, il tutto accompagnato da una guida esperta. \n \nPartiremo dal Lago Pio per poi attraversare il suggestivo borgo di Villalago\, fino a raggiungere una terrazza panoramica con vista sulla splendida alta Valle del Sagittario. Da qui ci immergeremo in un sentiero che si addentra in un fitto bosco di conifere\, conducendoci fino al meraviglioso Lago di San Domenico. \nLe sue acque\, di un colore straordinario\, regalano uno spettacolo mozzafiato\, capace di incantare lo sguardo per ore. Dopo una sosta per ammirarne la bellezza\, proseguiremo verso l’Eremo di San Domenico\, un luogo di raccoglimento e spiritualità\, dove un tempo gli uomini cercavano solitudine e contatto con la montagna e i suoi elementi. \nIl ritorno avverrà attraverso un percorso ad anello\, che si ricongiunge al sentiero dell’andata. \n\n \n   \n \n \n\n\nLunghezza a/r: 7 km\nDislivello andata: 150 m salita\, 200 m discesa\nDislivello ritorno: 180 m salita\nDurata: 4/5 ore ca (soste incluse)\nDifficoltà: medio/facile\n\n\n\nL’escursione verrà guidata da un Accompagnatore di Media Montagna( Maestro di Escursionismo iscritto al Collegio Regionale delle Guide Alpine Abruzzo e International Mountain Leader UILMA che\, oltre a portarvi nel punto prestabilito con la massima professionalità ed esperienza\, vi darà informazioni utili\, illustrando flora\, fauna e geologia del territorio\, senza tralasciare le tradizioni\, le leggende e la cultura. \n\nCosti dell’escursione: \n€ 20 a persona\, comprensivo di escursione guidata a cura di un Accompagnatore di Media Montagna/ Maestro di Escursionismo del Collegio Regionale Guide Alpine Abruzzo\, copertura assicurativa per tutta la durata dell’evento (RCT Professionale)\, segreteria e organizzazione. \nMin 7 – Max 15 partecipanti \nObbligatoria la prenotazione entro le 18.00 del giorno prima \n\nLa guida si riserva il diritto di modificare programma e itinerari\, in base a valutazioni personali per la sicurezza del gruppo e in base alle condizioni meteo. Il programma sarà annullato se non si raggiungerà il numero minimo di partecipanti. \nIn montagna le condizioni meteorologiche cambiano con grande facilità. Occorre essere preparati a repentini annuvolamenti e pioggia\, per cui è calorosamente consigliato un equipaggiamento adeguato\, in grado di far fronte a qualunque evenienza. \nIl modo migliore per tenere sempre sotto controllo la propria temperatura corporea è probabilmente quello di vestirsi a strati: uno strato primario per regolare la traspirazione\, uno strato intermedio capace di mantenere la temperatura corporea costante ed uno strato superiore per proteggersi dagli agenti esterni (pioggia\, vento\, neve). \nMateriale ed Equipaggiamento: \nZaino da montagna\, scarpe da trekking\, bastoncini telescopici (facoltativi)\, maglietta\, pile o maglione\, giacca a vento impermeabile\, pantaloni comodi\, maglietta di ricambio\, borraccia per l’acqua (1\,5 lt)\, sali minerali\, frutta secca\, pranzo al sacco. \n  \n\n  \nInfo e prenotazioni: \n3382717448 (anche whatsapp) \nwww.montagneselvagge.com \nEntra nel nuovo canale WhatsApp di Montagne Selvagge \nEscursioni guidate su richiesta \nSulla Via… \nNOVE ANNI DA GUIDA PROFESSIONISTA DI MONTAGNA \n  \n\n\n\nMontagne Selvagge – escursioni guidate nelle selvagge bellezze d’Abruzzo.\n\n\nPer essere aggiornati su tutte le nostre attività inviateci un messaggio tramite whatsapp al numero 3382717448 e riceverete individualmente i nostri aggiornamenti. \n  \n \n  \n\n			Share on FacebookTweet
URL:https://www.montagneselvagge.com/event/escursione-guidata-dal-borgo-di-villalago-al-lago-e-alleremo-di-san-domenico-nella-valle-del-sagittario/
CATEGORIES:Escursione guidata
ATTACH;FMTTYPE=image/jpeg:https://www.montagneselvagge.com/wp-content/uploads/2025/10/Copia-di-Copia-di-3382717448.jpg
ORGANIZER;CN="Ercole%20Wild%20-%20Accompagnatore%20di%20Media%20Montagna%2C%20Maestro%20di%20Escursionismo%20-%20International%20Mountain%20Leader":MAILTO:info@montagneselvagge.com
END:VEVENT
END:VCALENDAR