BEGIN:VCALENDAR
VERSION:2.0
PRODID:-//Montagne Selvagge - ECPv5.14.1//NONSGML v1.0//EN
CALSCALE:GREGORIAN
METHOD:PUBLISH
X-WR-CALNAME:Montagne Selvagge
X-ORIGINAL-URL:https://www.montagneselvagge.com
X-WR-CALDESC:Eventi per Montagne Selvagge
BEGIN:VTIMEZONE
TZID:UTC
BEGIN:STANDARD
TZOFFSETFROM:+0000
TZOFFSETTO:+0000
TZNAME:UTC
DTSTART:20190101T000000
END:STANDARD
END:VTIMEZONE
BEGIN:VEVENT
DTSTART;VALUE=DATE:20191005
DTEND;VALUE=DATE:20191006
DTSTAMP:20260425T220440
CREATED:20191001T111613Z
LAST-MODIFIED:20191001T200514Z
UID:6497-1570233600-1570319999@www.montagneselvagge.com
SUMMARY:Il Bramito del Re
DESCRIPTION:5 ottobre 2019 \nCervi in Amore: Osservazione e ascolto del bramito. \nCena in rifugio di montagna. \n \nIn questo periodo dell’anno il cervo maschio fa sentire la sua profonda e possente voce\, che riecheggia dalle vette alla vallate. Sfida gli altri maschi a colpi di palco che\, come moschettieri\, rispondono combattendo per rivendicare l’amore della propria amata. \nAvremo la possibilità di ascoltare il bramito del cervo in questa stagione degli amori e osserveremo dalla giusta distanza alcuni splendidi esemplari nei loro comportamenti naturali. Senza disturbarli ammireremo i loro atteggiamenti durante il corteggiamento\, le danze di lotta per “conquistare” la femmina più bella del branco. \nIl Cervo è un animale indomabile che vive in spazi aperti e che non può essere confinato e\, poiché possiede la capacità di rigenerare le corna ogni anno\, simboleggia la rigenerazione e la fertilità. \n \n\nDurante l’escursione avremo la possibilità di ascoltare il bramito del cervo e osservarli dalla giusta distanza nei loro comportamenti naturali. \nDurante le soste\, visto il tempo autunnale\, farà fresco; quindi consigliamo di portare con se indumenti necessari per coprirsi dal fresco. \nImportante il silenzio\, il rispetto degli orari impartiti dalla guida e spirito di adattamento. \nA fine escursione cena presso il Rifugio Casale da Monte \n \n\nDislivello: 200 m \nDurata a/r: 4 ore ca \nLunghezza a/r: 7\,5 km \nDislivello: Facile \n  \nAppuntamento ore 14.45  presso la piazza del paese di Forme (Aq)\, dalla piazza spostamento con mezzi propri verso il Rifugio Casale da Monte (10 min). \nTermine escursione ore 19.30. \nInizio cena ore 20.00 ca \nPossibilità di partecipare anche alla sola escursione \n\nLe escursioni saranno guidate da un Accompagnatore di Media Montagna e Maestro di Escursionismo iscritto al Collegio Regionale delle Guide Alpine Abruzzo che\, oltre a portarvi in vetta con la massima professionalità ed esperienza\, vi darà informazioni utili\, illustrando flora\, fauna e geologia del territorio\, senza tralasciare le tradizioni\, le leggende e la cultura. \n\nCosti \nEscursione guidata: \n€ 15 comprensivo di escursione guidata a cura di un Accompagnatore di Media Montagna/ Maestro di Escursionismo del Collegio Regionale Guide Alpine Abruzzo e copertura assicurativa per tutta la durata dell’evento. \nCena presso il Rifugio Casale da Monte \n€ 20 con menù fisso \nBruschetta\, primo\, secondo\, bevande. \n\nRegolamento per una buona riuscita dell’evento: \nBisogna rispettare gli orari di partenza e il programma stabilito\, adeguandosi alle eventuali variazioni apportate dalle guide. \nMantenere un comportamento disciplinato nel corso dell’iniziativa e spirito di adattamento ad escursione di gruppo. \nEssere solidali con le decisioni delle guide e informarli nel caso in cui dovessero sorgere delle difficoltà \nNon allontanarsi dal sentiero e dal gruppo. \nNon superare la guida\, la quale farà un passo adatto a tutti per tutta la durata dell’evento. \nNon raccogliere fiori\, piante o erbe protette e comunque rispettare le indicazioni impartite dalla guida. \nConservare i propri rifiuti per poi gettarli\, una volta finita l’escursione\, negli appositi cassonetti (bucce di banana\, mele\, arance… comprese). \nConsigliamo di tenere le suonerie dei propri telefoni basse. \n \n\nNel corso dell’escursione verranno effettuati scatti fotografici e/o riprese video che possono comparire su siti di pubblico dominio e che saranno utilizzati dall’organizzazione per finalità promozionali riguardanti l’attività stessa. La partecipazione all’escursione sottintende il nullaosta alla pubblicazione del suddetto materiale. \nMateriale ed Equipaggiamento: \nZaino da montagna\, binocolo\, scarpe da trekking\, maglietta\, lampada frontale o torcia\, pile o maglione\, giacca a vento impermeabile\, pantaloni comodi per la camminata\, maglietta di ricambio\, cappello\, guanti\, berretto per protezione raggi UV\, borraccia per l’acqua (1\,5 lt). \n\n  \nIl programma potrà subire variazioni in base alle condizioni meteo e sarà annullato se non si raggiungerà il numero minimo di partecipanti. \nMinimo 7 – massimo 15 partecipanti \n \nInfo e prenotazioni: \n3382717448 (anche whatsapp) \ninfo@montagneselvagge.com \n\nMontagne Selvagge – escursioni guidate nelle selvagge bellezze d’Abruzzo. \nPer essere aggiornati su tutte le nostre attività potete iscrivervi alla newsletter di www.montagneselvagge.com\, inserendo la vostra email e i vostri dati nell’apposita sezione. Oppure inviaci un messaggio tramite whatsapp al numero 3382717448 e riceverete individualmente i nostri aggiornamenti. \n  \n\n			Share on FacebookTweet
URL:https://www.montagneselvagge.com/event/il-bramito-del-re-3/
CATEGORIES:Escursione guidata
ATTACH;FMTTYPE=image/jpeg:https://www.montagneselvagge.com/wp-content/uploads/2019/09/IMG_0580.jpg
ORGANIZER;CN="Ercole%20Marchionni%20-%20Accompagnatore%20di%20Media%20Montagna%2FMaestro%20di%20Escursionismo%20del%20Collegio%20Guide%20Alpine%20Abruzzo":MAILTO:info@montagneselvagge.com
END:VEVENT
END:VCALENDAR