BEGIN:VCALENDAR
VERSION:2.0
PRODID:-//Montagne Selvagge - ECPv5.14.1//NONSGML v1.0//EN
CALSCALE:GREGORIAN
METHOD:PUBLISH
X-WR-CALNAME:Montagne Selvagge
X-ORIGINAL-URL:https://www.montagneselvagge.com
X-WR-CALDESC:Eventi per Montagne Selvagge
BEGIN:VTIMEZONE
TZID:UTC
BEGIN:STANDARD
TZOFFSETFROM:+0000
TZOFFSETTO:+0000
TZNAME:UTC
DTSTART:20200101T000000
END:STANDARD
END:VTIMEZONE
BEGIN:VEVENT
DTSTART;VALUE=DATE:20200104
DTEND;VALUE=DATE:20200107
DTSTAMP:20260421T214022
CREATED:20191206T115814Z
LAST-MODIFIED:20191220T141500Z
UID:6923-1578096000-1578355199@www.montagneselvagge.com
SUMMARY:La Befana vien dai monti
DESCRIPTION:Montagne Selvagge organizza: \nLa Befana vien dai monti \n4\, 5\, 6 gennaio 2020 \nHenry David Thoreau disse che “la salvezza del mondo è nella natura selvaggia “\, ancor di più in un’epoca come questa\, dove le moderne abitudini ci deviano dalla semplicità di cui abbiamo bisogno per stare bene veramente: vita all’aria aperta\, camminare e tornare alla natura. \nTre giorni di trekking nelle selvagge emozioni di Madre Natura: tra vette\, eremi\, laghi di montagna\, boschi\, animali selvatici\, storia\, arte\, cultura\, leggende\, tradizioni e briganti. \nPer conoscere la bellezza della vita all’aria aperta e le antiche storie dei popoli Marsi. Faremo escursioni nel bosco per vivere la sua magia\, la sua tranquillità e il suo silenzio. \nOsserveremo il volo del grifone alle pendici del Monte Velino\, seguiremo le tracce degli animali selvatici\, ed impareremo a riconoscerle\, così come la flora più rappresentativa del posto. Osserveremo la fauna selvatica dalla giusta distanza\, osservando i suoi comportamenti naturali. Gusteremo i magnifici panorami che dalle altezze creano indimenticabili emozioni. \n \n \nLa ricchezza del Parco Regionale Sirente Velino e delle Montagne della Duchessa non sono solo nella loro natura\, ma anche nel loro prezioso patrimonio di storia\, cultura e tradizioni\, ereditato da un passato che ha contribuito a definire l’identità di questo territorio e della sua comunità e i cui segni sono ancora oggi ben conservati ed apprezzabili. \nPossibilità di partecipare anche alla singola escursione \nIn caso di neve le escursioni verranno fatte con l’ausilio delle ciaspole \nPossibilità di prenderle in affitto. \n \n \n  \n\nProgramma: \nSabato 4 gennaio 2019 \nArrivo a nel paese di Torano\, situato nel comune di Borgorose (RI) alle ore 14.30\, sistemazione presso l’Ostello Casa Bella e presentazione del programma. \nOre 15.00 – spostamento con i mezzi propri\, inizio escursione lungo il Cammino dei Briganti da Cartore a Rosciolo dei Marsi \nOre 20.00 – Inizio cena \nLa Marsica e il Cicolano sono terre di boschi\, montagne e storie di briganti. In particolare il territorio attraversato da questo cammino è un territorio di confine\, oggi tra Abruzzo e Lazio\, ieri tra Stato Pontificio e Regno Borbonico. I briganti vivevano sul confine per passare da una parte all’altra a seconda della minaccia. \nQueste antiche vie di comunicazione narrano anni ed anni di vite e di storie. \nOggi questi sentieri vengono ricordati per la figura del brigante\, che trovava rifugio negli anfratti più nascosti di queste montagne. \nNel settembre del 1964 venne in questi luoghi anche Walter Bonatti\, alpinista di fama mondiale. Egli venne in visita a Sant’Anatolia\, dal caro amico e collega Gigi Panei\, uno dei migliori alpinisti dell’epoca\, nato appunto a Sant’Anatolia. \nDislivello positivo: 200 m \nDifficoltà: facile \nLunghezza a/r: 5 km \n \n  \n\nDomenica 5 gennaio 2020 \nEscursione guidata nella Valle Amara \nRiserva Naturale Regionale Montagne della Duchessa. \nOre 8.00 – Spostamento con i mezzi propri\, inizio escursione presso il paese di Corvaro \nOre 13.00 – Pranzo al sacco \nOre 20.00 – Inizio cena \nL’itinerario parte dalla località Le Vene (detta anche Anguizzola)\, situata a circa 1.5 km a est dell’abitato di Corvaro. \nIl sentiero si snoda lungo la Valle Amara\, una valle profonda e boscosa che si insinua tra le pendici ripide del Monte Cava e quelle del Monte Morrone. \nLungo la valle scorre il fiume Corvaro\, corso d’acqua temporaneo che si forma in seguito allo scioglimento delle nevi e alle abbondanti precipitazioni primaverili. \nLa parte più bassa dell’itinerario attraversa il querceto termofilo misto a roverella (Quercus pubescens) e orniello (Fraxinus ornus). Il querceto è comunque poco esteso ed è sostituito subito dalla faggeta. Poco prima di arrivare a Prime Prata si possono ammirare nella fustaia di faggio alcuni esemplari monumentali. A Prime Prata sono presenti prati-pascoli mesofili\, che superato il pianoro lasciano nuovamente spazio alla faggeta. \nTra Fonte la Vena e Fossa Conca si incontrano alcuni stazzi circondati da vegetazione nitrofila\, ossia costituita da specie che vivono su suoli ricchi di nitrati\, quali sono quelli ove sostano le mandrie e le greggi. \nLa nostra meta sono i Rifugi di Fossa Conca/Fonte la Vena situati a circa 1700 m. \nDislivello: 650 m ca \nDurata totale: 7\,5 ore ca (soste incluse) \nLunghezza: 12 km a/r \nDifficoltà: media \n  \n\nLunedi’ 6 gennaio 2020 \nEscursione guidata da Prato Agapito fino al Rifugio di Cerasolo \nOre 8.30 – Spostamento con i mezzi propri\, inizio escursione presso il Valico delle Chiesole\, in località Campo Felice. \nOre 13.00 – Pranzo al sacco \nOre 15.30 – fine escursione \nIl bosco di Cerasolo è una delle più belle faggete del massiccio del Velino\, si estende nei territori di Tornimparte e di Lucoli ed è dominato dalle vette dei monti Puzzillo\, Ginepro\, Morrone\, Cava e San Rocco. \nMeta della passeggiata sono i Prati di Cerasolo\, un bellissimo altopiano ai piedi del Monte San Rocco\, a poca distanza dal confine con il Lazio e con la Riserva Naturale Montagne della Duchessa. \nDislivello: 250 m ca \nDurata a/r: 6 ore (soste incluse) \nDifficoltà: media \nLunghezza a/r: 10 km \n \n\nL’escursione verrà guidata da professionisti del Collegio Regionale Guide Alpine Abruzzo che\, oltre a portarvi nel punto prestabilito con la massima professionalità ed esperienza\, vi darà informazioni utili\, illustrando flora\, fauna e geologia del territorio\, senza tralasciare le tradizioni\, le leggende e la cultura \nIl programma potrà subire variazioni in base alle condizioni meteo e sarà annullato se non si raggiungerà il numero minimo di partecipanti. \nMin 6 – Max 15 partecipanti \nPrenotazione obbligatoria entro il 2  gennaio 2020 \n\n  \nIl modo migliore per tenere sempre sotto controllo la propria temperatura corporea è probabilmente quello di vestirsi a strati: uno strato primario per regolare la traspirazione\, uno strato intermedio capace di mantenere la temperatura corporea costante ed uno strato superiore per proteggersi dagli agenti esterni \n\nMateriale ed Equipaggiamento: \nZaino da montagna\, scarpe da trekking\, bastoncini telescopici (facoltativi)\, maglietta\, pile o maglione\, guanti\, cappello\, giacca a vento impermeabile\, maglietta di ricambio\, pantaloni\, medicinali personali\, borraccia per l’acqua (1\,5 lt)\, sali minerali\, frutta secca. \n\nQuota di partecipazione: \n€ 150 a persona \nComprensivo di due pernotti\, due cene\, due prime colazioni\, due pranzi al sacco. \nTre Escursioni guidate\, segreteria\, assicurazione (Rct professionale). \nI pernotti sono in camere da cinque o sei persone con bagno esterno per ogni camera \nSono disponibili anche una camera matrimoniale\, una doppia e una singola con bagno esterno. \nAggiungere € 8 a persona \n  \nInfo e prenotazioni: \n3382717448\, info@montagneselvagge.com \nwww.montagneselvagge.com \n  \nNote sulle quote: Per definire la prenotazione è necessario versare un acconto tramite iban\, richiedere informazioni via telefono al numero 3382717448 oppure tramite mail info@montagneselvagge.com \n\n  \nIscriviti alla newsletter di www.montagneselvagge.com\, inserendo la vostra mail e i vostri dati nell’apposita sezione. Oppure inviaci un msg tramite WhatsApp al numero 3382717448 con il vostro nome e verrete aggiornati su tutte le nostre attività. \n\n			Share on FacebookTweet
URL:https://www.montagneselvagge.com/event/la-befana-vien-dai-monti/
CATEGORIES:Trekking
ATTACH;FMTTYPE=image/png:https://www.montagneselvagge.com/wp-content/uploads/2019/12/Longshore-Dive-Center-1.png
END:VEVENT
END:VCALENDAR