BEGIN:VCALENDAR
VERSION:2.0
PRODID:-//Montagne Selvagge - ECPv5.14.1//NONSGML v1.0//EN
CALSCALE:GREGORIAN
METHOD:PUBLISH
X-WR-CALNAME:Montagne Selvagge
X-ORIGINAL-URL:https://www.montagneselvagge.com
X-WR-CALDESC:Eventi per Montagne Selvagge
BEGIN:VTIMEZONE
TZID:UTC
BEGIN:STANDARD
TZOFFSETFROM:+0000
TZOFFSETTO:+0000
TZNAME:UTC
DTSTART:20210101T000000
END:STANDARD
END:VTIMEZONE
BEGIN:VEVENT
DTSTART;VALUE=DATE:20210522
DTEND;VALUE=DATE:20210523
DTSTAMP:20260426T013250
CREATED:20210517T112312Z
LAST-MODIFIED:20210520T184522Z
UID:8855-1621641600-1621727999@www.montagneselvagge.com
SUMMARY:L’Odore del Selvatico.  Io sono Lupo\, Albero\, Orso\, Silenzio
DESCRIPTION:Sabato 22 maggio \nL’Odore del Selvatico \nIo sono Lupo\, Albero\, Orso\, Silenzio \nFoto By ErrePi\nEscursione guidata dal Rifugio Casale da Monte a Colle Pelato\, alle pendici del monte Velino in Abruzzo\, nella Riserva Naturale Orientata Monte Velino. \nC’è un mondo in cui lupi\, alberi\, orsi e silenzi ti parlano delicatamente; in un discorso interiore privo di doppi fini e giochi di potere. Raccontano della loro patria: la natura selvaggia. \nIl loro vivere in simbiosi con la libertà che sveglia e risveglia la parte più bella\, antica e naturale di te. \n \nDurante l’escursione verranno letti pensieri tratti dal diario di viaggio “L’Odore del Selvatico”. \nRacconta le sensazioni e le emozioni che ti rimangono addosso\, come l’odore appunto\, dopo un’esperienza con Madre Natura. \nCome qualcosa che si porta con sé ovunque\, a dare un senso nuovo a qualsiasi esperienza della vita quotidiana. \n \n \n  \nTratto dal racconto Io sono il Lupo: “Ti guardo in un modo diverso\, forse pensavi veramente di essere il padrone del mondo? Ora ti stai accorgendo che il mondo che hai costruito\, da cui hai sempre preso e mai dato\, ti sta rinchiudendo in una gabbia\, quelle stesse gabbie che hai edificato per domare uno spirito selvaggio e libero come il mio”. \n\nDislivello: 450 m ca \nDurata: 5 ore ca (soste incluse) \nDifficoltà: E \nLunghezza a/r: 8 km ca \nAppuntamento: ore 8\,30 nella piazza del paese di Forme (Aq) \n\n \nL’escursione verrà guidata da un Accompagnatore di Media Montagna e Maestro di Escursionismo iscritto al Collegio Regionale delle Guide Alpine Abruzzo che\, oltre a portarvi nel punto prestabilito con la massima professionalità ed esperienza\, vi darà informazioni utili\, illustrando flora\, fauna e geologia del territorio\, senza tralasciare le tradizioni\, le leggende e la cultura. \nCosti dell’escursione: \n€ 15 a persona\, comprensivo di escursione guidata a cura di un Accompagnatore di Media Montagna/ Maestro di Escursionismo del Collegio Regionale Guide Alpine Abruzzo e copertura assicurativa per tutta la durata dell’evento (RCT Professionale). \nMin 7 – Max 15 partecipanti \nObbligatoria la prenotazione entro le 18.00 del giorno prima. \n\nLa guida si riserva il diritto di modificare programma e itinerari\, in base a valutazioni personali per la sicurezza del gruppo e in base alle condizioni meteo. Il programma sarà annullato se non si raggiungerà il numero minimo di partecipanti. \n\nIn montagna le condizioni meteorologiche cambiano con grande facilità. Occorre essere preparati a repentini annuvolamenti e pioggia\, per cui è calorosamente consigliato un equipaggiamento adeguato\, in grado di far fronte a qualunque evenienza. \nIl modo migliore per tenere sempre sotto controllo la propria temperatura corporea è probabilmente quello di vestirsi a strati: uno strato primario per regolare la traspirazione\, uno strato intermedio capace di mantenere la temperatura corporea costante ed uno strato superiore per proteggersi dagli agenti esterni (pioggia\, vento\, neve). \n\nMateriale ed Equipaggiamento: \nZaino da montagna\, scarpe da trekking\,  bastoncini telescopici\, maglietta\, pile o maglione\, giacca a vento impermeabile\, pantaloni comodi\, maglietta di ricambio\, cappello\, guanti\, berretto per protezione raggi UV\, crema solare\, antizanzare\, medicinali personali\, borraccia per l’acqua (1\,5 lt)\, sali minerali\, frutta secca. \n\nInfo e prenotazioni: \n3382717448 (anche whatsapp) \ninfo@montagneselvagge.com \nwww.montagneselvagge.com \nLEGGI LE LINEE GUIDA \n\nMontagne Selvagge – escursioni guidate nelle selvagge bellezze d’Abruzzo. \nPer essere aggiornati su tutte le nostre attività potete iscrivervi alla newsletter di www.montagneselvagge.com\, inserendo la vostra email e i vostri dati nell’apposita sezione. Oppure inviaci un messaggio tramite whatsapp al numero 3382717448 e riceverete individualmente i nostri aggiornamenti \n  \n\n			Share on FacebookTweet
URL:https://www.montagneselvagge.com/event/lodore-del-selvatico-io-sono-lupo-albero-orso-silenzio/
CATEGORIES:Escursione guidata
ATTACH;FMTTYPE=image/jpeg:https://www.montagneselvagge.com/wp-content/uploads/2020/10/120556396_1780970868722219_3352523240624109742_o.jpg
END:VEVENT
END:VCALENDAR