BEGIN:VCALENDAR
VERSION:2.0
PRODID:-//Montagne Selvagge - ECPv5.14.1//NONSGML v1.0//EN
CALSCALE:GREGORIAN
METHOD:PUBLISH
X-WR-CALNAME:Montagne Selvagge
X-ORIGINAL-URL:https://www.montagneselvagge.com
X-WR-CALDESC:Eventi per Montagne Selvagge
BEGIN:VTIMEZONE
TZID:UTC
BEGIN:STANDARD
TZOFFSETFROM:+0000
TZOFFSETTO:+0000
TZNAME:UTC
DTSTART:20170101T000000
END:STANDARD
END:VTIMEZONE
BEGIN:VEVENT
DTSTART;VALUE=DATE:20170527
DTEND;VALUE=DATE:20170528
DTSTAMP:20260421T180630
CREATED:20170522T100735Z
LAST-MODIFIED:20170522T105204Z
UID:2331-1495843200-1495929599@www.montagneselvagge.com
SUMMARY:Sulle tracce degli Equi da Scanzano a Santo Stefano
DESCRIPTION:Sabato 27 maggio 2017 \nIl comune di Sante Marie\, con la collaborazione della Riserva Naturale Regionale Grotte di Luppa\, organizza\,\nnell’ambito di “ABRUZZO OPEN DAY SUMMER 2017”\, una facile escursione guidata tra natura e cultura\, da Scanzano a Santo Stefano\, sulle tracce degli Equi. \n\nVisita al parco archeologico di Colle Nerino\, con l’archeologo Marco Bianchini ed escursione guidata da Accompagnatore di Media Montagna del Collegio Guide Alpine Abruzzo. \nProgramma:\nOre 8.30 – raduno a Scanzano e colazione bio al “Casale della Biodiversità” ( € 5 a persona)\nPartenza per l’escursione guidata da Scanzano a Santo Stefano\, passando per l’aerea archeologica di Colle Nerino.\nOre 12.30 – pranzo presso l’agriturismo “La Grande Quercia” di Santo Stefano (€ 25 a persona). \nInfo e prenotazioni:\n3338601069\, oppure 3382717448 (anche whatsapp). \nMateriale ed Equipaggiamento:\nZaino da montagna\, scarpe da trekking\, maglietta\, pile o maglione\, giacca a vento impermeabile\, pantaloni comodi per la camminata ( no jeans)\, maglietta di ricambio\, crema solare\, medicinali personali\, antizanzare\, occhiali da sole\, berretto per protezione raggi UV. \n \n \n  \n\n			Share on FacebookTweet
URL:https://www.montagneselvagge.com/event/sulle-tracce-degli-equi-da-scanzano-a-santo-stefano/
CATEGORIES:Escursionismo
ATTACH;FMTTYPE=image/jpeg:https://www.montagneselvagge.com/wp-content/uploads/2017/05/IMG_4110.jpg
END:VEVENT
END:VCALENDAR