BEGIN:VCALENDAR
VERSION:2.0
PRODID:-//Montagne Selvagge - ECPv5.14.1//NONSGML v1.0//EN
CALSCALE:GREGORIAN
METHOD:PUBLISH
X-WR-CALNAME:Montagne Selvagge
X-ORIGINAL-URL:https://www.montagneselvagge.com
X-WR-CALDESC:Eventi per Montagne Selvagge
BEGIN:VTIMEZONE
TZID:UTC
BEGIN:STANDARD
TZOFFSETFROM:+0000
TZOFFSETTO:+0000
TZNAME:UTC
DTSTART:20230101T000000
END:STANDARD
END:VTIMEZONE
BEGIN:VEVENT
DTSTART;VALUE=DATE:20230408
DTEND;VALUE=DATE:20230411
DTSTAMP:20260421T172740
CREATED:20230313T103255Z
LAST-MODIFIED:20230314T093917Z
UID:10920-1680912000-1681171199@www.montagneselvagge.com
SUMMARY:Trekking di Pasqua nelle Montagne Selvagge 
DESCRIPTION:Montagne Selvagge organizza: \nTrekking di Pasqua \nTre giorni di Trekking nelle Montagne Selvagge  \n8\, 9\, 10 aprile \nTre giorni di trekking nelle montagne selvagge per conoscere la bellezza della vita all’aria aperta\, antiche storie\, eremi\, boschi\, animali selvatici\, arte\, cultura e leggende. \nOsserveremo il volo del grifone\, seguiremo le tracce degli animali selvatici\, ed impareremo a riconoscerle\, così come la flora più rappresentativa del posto. Osserveremo la fauna selvatica dalla giusta distanza\, osservando i suoi comportamenti naturali. Gusteremo i magnifici panorami che dalle altezze creano indimenticabili emozioni. \nLa ricchezza del Parco Regionale Sirente Velino e delle Montagne della Duchessa non sono solo nella loro natura\, ma anche nel loro prezioso patrimonio di storia\, cultura e tradizioni\, ereditato da un passato che ha contribuito a definire l’identità di questo territorio e della sua comunità e i cui segni sono ancora oggi ben conservati ed apprezzabili. \nSistemazione presso l’Ostello Casa Bella\, nel paese di Torano\, situato nel comune di Borgorose (RI) \n \n  \n \n\nProgramma: \nSabato 8 aprile \nEscursione guidata ad anello sui sentieri del lupo nel Parco Naturale Regionale Sirente Velino \nInizio escursione ore 9\,00  con partenza dal paese di Massa D’Albe (il punto preciso verrà comunicato in fase di prenotazione). \n \n \nIn natura\, sicuramente\, non c’è animale che più del lupo abbia colpito l’immaginazione dell’uomo fin dalla più remota antichità.\nChi tra tutti noi\, da bambino\, non ha provato un brivido di emozione ascoltando una fiaba\, un racconto\, oppure leggendo un libro o vedendo un film dove compare il lupo?\nImmancabilmente il ruolo è stato quello del cattivo\, del predone famelico e spietato: una triste fama alimentata da centinaia di generazioni umane che\, a parte rare eccezioni\, hanno tracciato con presunzione una discutibile linea di separazione tra “buoni” e “cattivi”. \nAnello di circa 10 km che parte ed arriva nel paese di Massa D’albe\, passando per i sentieri che consentono di raggiungere Rava Grossa\, Monte Rastegliu\, Punta Canale e Monte Difensola (1326 m)\, per poi riscendere per Fonte Canale. \nDurante l’escursione\, se fortunati\, si possono incontrare cervi\, grifoni e aquile. Consigliamo di portare anche una macchina fotografica per immortalare questi bellissimi incontri. \n\nDislivello: 550 m\nDurata totale: 6 ore ca\, soste incluse\nLunghezza anello: 10 km\nDifficoltà: media\n\nA fine escursione partenza per il paese di Torano ( circa 15 minuti di macchina)\, sistemazione presso l’Ostello Casa Bella. \n   \n\nDomenica 9 aprile \nEscursione guidata al Lago della Duchessa\, in una terra incantata e dai toni magici \nRiserva Naturale Regionale Montagne della Duchessa \nAlla scoperta del lago incantato e dell’acero magico \n\nDislivello: 850 m ca\nDurata totale: 7 ore ca (soste incluse)\nLunghezza: 11\,5 km\nDifficoltà: E\n\nIl Lago della Duchessa\, posto a 1788 m in una conca glaciale sovrastata da imponenti cime come Murolungo 2184 m e Monte Morrone 2141\, è uno dei laghi più alti dell’Appennino centrale. Terra incantata dai toni magici\, fu in grado di far maturare\, nei secoli\, storie e leggende che per lungo tempo ne conservarono il fascino. \n \n  \n\nLunedi 10 aprile \nEscursione guidata sul Cammino dei Briganti da Cartore a Passo Le Forche \nLa Marsica e il Cicolano sono terre di boschi\, montagne e storie di briganti. In particolare il territorio attraversato da questo cammino è un territorio di confine\, oggi tra Abruzzo e Lazio\, ieri tra Stato Pontificio e Regno Borbonico. I briganti vivevano sul confine per passare da una parte all’altra a seconda della minaccia. \nQueste antiche vie di comunicazione narrano anni ed anni di vite e di storie. \nOggi questi sentieri vengono ricordati per la figura del brigante\, che trovava rifugio negli anfratti più nascosti di queste montagne. \nNel settembre del 1964 venne in questi luoghi anche Walter Bonatti\, alpinista di fama mondiale. Egli venne in visita a Sant’Anatolia\, dal caro amico e collega Gigi Panei\, uno dei migliori alpinisti dell’epoca\, nato appunto a Sant’Anatolia. \n\nDislivello positivo: 300 m\nDifficoltà: medio/ facile\nLunghezza a/r: 8 km\n\n \n \n\nLe escursioni verranno guidate da un Accompagnatore di Media Montagna e Maestro di Escursionismo iscritto al Collegio Regionale delle Guide Alpine Abruzzo e Intenational Mountain Leader (Union of International Mountain Leader Associations) che\, oltre a portarvi nel punto prestabilito con la massima professionalità ed esperienza\, vi darà informazioni utili\, illustrando flora\, fauna e geologia del territorio\, senza tralasciare le tradizioni\, le leggende e la cultura. \nLa guida si riserva il diritto di modificare programma e itinerari\, in base a valutazioni personali per la sicurezza del gruppo e in base alle condizioni meteo. Il programma sarà annullato se non si raggiungerà il numero minimo di partecipanti. \nMin 8 – Max 15 partecipanti \nPrenotazione obbligatoria entro il 2 aprile \n\nIl modo migliore per tenere sempre sotto controllo la propria temperatura corporea è probabilmente quello di vestirsi a strati: uno strato primario per regolare la traspirazione\, uno strato intermedio capace di mantenere la temperatura corporea costante ed uno strato superiore per proteggersi dagli agenti esterni \nMateriale ed Equipaggiamento: \nZaino da montagna\, scarpe da trekking\, bastoncini telescopici\, maglietta\, pile o maglione\, guanti\, cappello\, giacca a vento impermeabile\, maglietta di ricambio\, pantaloni\, medicinali personali\, borraccia per l’acqua (1\,5 lt)\, lampada frontale o torcia\, sali minerali\, frutta secca\, pranzo al sacco. \n\nCosto dell’evento: € 200 \nQuota: € 100 – comprensivo di: \n\nTre escursioni guidate\nguida a disposizione per l’intero evento\ngestione logistica e organizzazione\nsegreteria\,\nassicurazione Rct professionale\n\nAltre spese previste in ostello: € 100 – comprensivo di: \n\nDue pernotti\ndue cene\ndue prime colazioni\ndue pranzi al sacco\n\nIl costo non comprende i trasferimenti per arrivare al punto di partenza dell’escursione\, il pranzo al sacco del primo giorno\,  tutto ciò che non è indicato nella voce “ comprensivo di”. \n\nI pernotti sono in: \n\nDue camere doppie.\nUna camera da quattro: un matrimoniale e due letti singoli.\nUna camera da sei: un matrimoniale e due letti a castello\n\nOgni camera ha un suo bagno esterno. \n\nInfo e prenotazioni: \n3382717448 (anche whatsapp) \nRichiesto allenamento fisico e spirito di adattamento di gruppo. \nComunicare eventuali allergie alimentari. \nPrenotazione obbligatoria entro il 2 aprile \nUscito il mio libro “L’Odore del Selvatico” per Edizioni Kirke \n\nNote sulle quote: Per definire la prenotazione è necessario versare un acconto tramite iban\, richiedere informazioni via telefono al numero 3382717448 oppure tramite mail info@montagneselvagge.com \n\nIscriviti alla newsletter di www.montagneselvagge.com\, inserendo la vostra mail e i vostri dati nell’apposita sezione. Oppure inviaci un msg tramite WhatsApp al numero 3382717448 con il vostro nome e verrete aggiornati su tutte le nostre attività. \n \n \n 
URL:https://www.montagneselvagge.com/event/trekking-di-pasqua-nelle-montagne-selvagge-2/
CATEGORIES:Trekking
ATTACH;FMTTYPE=image/jpeg:https://www.montagneselvagge.com/wp-content/uploads/2023/03/Harvest-Festival.jpg
ORGANIZER;CN="Ercole%20Wild%20-%20Accompagnatore%20di%20Media%20Montagna%2F%20Maestro%20di%20Escursionismo%20del%20Collegio%20Guide%20Alpine%20Abruzzo":MAILTO:info@montagneselvagge.com
END:VEVENT
END:VCALENDAR