BEGIN:VCALENDAR
VERSION:2.0
PRODID:-//Montagne Selvagge - ECPv5.14.1//NONSGML v1.0//EN
CALSCALE:GREGORIAN
METHOD:PUBLISH
X-WR-CALNAME:Montagne Selvagge
X-ORIGINAL-URL:https://www.montagneselvagge.com
X-WR-CALDESC:Eventi per Montagne Selvagge
BEGIN:VTIMEZONE
TZID:UTC
BEGIN:STANDARD
TZOFFSETFROM:+0000
TZOFFSETTO:+0000
TZNAME:UTC
DTSTART:20250101T000000
END:STANDARD
END:VTIMEZONE
BEGIN:VEVENT
DTSTART;VALUE=DATE:20251129
DTEND;VALUE=DATE:20251130
DTSTAMP:20260425T233432
CREATED:20251119T105212Z
LAST-MODIFIED:20251119T200809Z
UID:14643-1764374400-1764460799@www.montagneselvagge.com
SUMMARY:Lago di Scanno - Escursione guidata sul “Sentiero del Cuore”
DESCRIPTION:Sabato 29 novembre \nEscursione guidata ad anello sul “Sentiero del Cuore”\, per ammirare dall’alto la bellezza del Lago di Scanno \nAll’interno delle nostre escursioni in Abruzzo\, organizziamo questa splendida esperienza\, disponibile sia su richiesta che come parte del programma. Un’opportunità imperdibile per esplorare la bellezza incontaminata della regione\, immergendosi in un paesaggio di straordinaria bellezza e suggestione. \n \n\nDettagli dell’evento: \nAppuntamento: Ore 9.00 presso il Lago di Scanno\, il punto preciso verrà comunicato in fase di prenotazione. \nDislivello complessivo positivo: 380 m ca\nDurata totale: 5 ore ca (soste incluse)\nLunghezza totale anello: 6\,5 km\nDifficoltà: medio/facile \n \n\n \nEscursione sul “Sentiero del Cuore” – Panoramica sul Lago di Scanno \nL’escursione inizia dalle sponde del Lago di Scanno\, una delle mete turistiche più iconiche d’Abruzzo. Il borgo di Scanno\, annoverato tra i più belli d’Italia\, affascina per la sua unicità: le architetture storiche raccontano la ricchezza del passato\, mentre le decorazioni dei portali e le facciate delle case narrano storie antiche e radicate. Passeggiando tra i vicoli del centro storico\, si respira un’atmosfera autentica e senza tempo. \nMa il vero protagonista è il lago\, formatosi in epoche remote a seguito di un movimento franoso che ne ha modellato la conca. Una delle particolarità più amate dai visitatori è la sua forma: da un punto panoramico preciso\, il lago appare come un cuore azzurro incastonato tra i monti. \nIl nostro itinerario segue il “Sentiero del Cuore”\, che conduce all’eremo di Sant’Egidio\, una piccola chiesa seicentesca posta sull’omonimo colle. Da lì raggiungeremo un punto panoramico da cui si apre una delle viste più emozionanti e suggestive sull’intero lago\, permettendoci di ammirarne appieno la singolare forma. \nL’escursione si sviluppa come un giro ad anello\, permettendoci di tornare al punto di partenza completando un percorso vario e panoramico\, tra scorci sul lago\, boschi e tratti storici del territorio. \n  \n\nGuida esperta al tuo fianco \nL’escursione sarà condotta da un Accompagnatore di Media Montagna/Maestro di Escursionismo\, iscritto al Collegio Regionale delle Guide Alpine Abruzzo e International Mountain Leader UIMLA. Con professionalità ed esperienza\, la guida arricchirà l’esperienza con approfondimenti su flora\, fauna e geologia del territorio\, oltre a racconti sulle tradizioni locali e le leggende della zona. \n\nCosti dell’escursione: \n€ 20 a persona\, comprensivo di escursione guidata a cura di un Accompagnatore di Media Montagna/ Maestro di Escursionismo del Collegio Regionale Guide Alpine Abruzzo\, copertura assicurativa per tutta la durata dell’evento (RCT Professionale)\, segreteria e organizzazione. \nMin 7 – Max 15 partecipanti \nObbligatoria la prenotazione entro le 18.00 del giorno prima \n\nLa guida si riserva il diritto di modificare programma e itinerari\, in base a valutazioni personali per la sicurezza del gruppo e in base alle condizioni meteo. Il programma sarà annullato se non si raggiungerà il numero minimo di partecipanti. \nIn montagna le condizioni meteorologiche cambiano con grande facilità. Occorre essere preparati a repentini annuvolamenti e pioggia\, per cui è calorosamente consigliato un equipaggiamento adeguato\, in grado di far fronte a qualunque evenienza. \nIl modo migliore per tenere sempre sotto controllo la propria temperatura corporea è probabilmente quello di vestirsi a strati: uno strato primario per regolare la traspirazione\, uno strato intermedio capace di mantenere la temperatura corporea costante ed uno strato superiore per proteggersi dagli agenti esterni (pioggia\, vento\, neve). \nMateriale ed Equipaggiamento: \nZaino da montagna\, scarpe da trekking\, bastoncini telescopici (facoltativi)\, maglietta\, pile o maglione\, cappello\, guanti\, giacca a vento impermeabile\, pantaloni comodi\, maglietta di ricambio\, borraccia per l’acqua (1\,5 lt)\, sali minerali\, frutta secca\, pranzo al sacco. \n\nInfo e prenotazioni: \nTelefono e WhatsApp: 338 2717448\nMontagne Selvagge – escursioni guidate nelle bellezze dell’Abruzzo \nEntra nel nuovo canale WhatsApp di Montagne Selvagge \nRegala un’escursione guidata con Montagne Selvagge \nEscursioni guidate su richiesta \nVivi un’esperienza autentica immerso nella natura incontaminata\, tra panorami spettacolari e storie affascinanti. Ti aspettiamo per un’avventura indimenticabile! \n\n \n  \n \n  \n \n 
URL:https://www.montagneselvagge.com/event/lago-di-scanno-escursione-guidata-sul-sentiero-del-cuore/
CATEGORIES:Escursione guidata
ATTACH;FMTTYPE=image/jpeg:https://www.montagneselvagge.com/wp-content/uploads/2025/11/Beige-Marrone-Verde-Fotografico-Rustico-Strappato-Montagna-Presentazione.jpg
ORGANIZER;CN="Ercole%20Wild%20-%20Accompagnatore%20di%20Media%20Montagna%2C%20Maestro%20di%20Escursionismo%20-%20International%20Mountain%20Leader":MAILTO:info@montagneselvagge.com
END:VEVENT
END:VCALENDAR