BEGIN:VCALENDAR
VERSION:2.0
PRODID:-//Montagne Selvagge - ECPv5.14.1//NONSGML v1.0//EN
CALSCALE:GREGORIAN
METHOD:PUBLISH
X-WR-CALNAME:Montagne Selvagge
X-ORIGINAL-URL:https://www.montagneselvagge.com
X-WR-CALDESC:Eventi per Montagne Selvagge
BEGIN:VTIMEZONE
TZID:UTC
BEGIN:STANDARD
TZOFFSETFROM:+0000
TZOFFSETTO:+0000
TZNAME:UTC
DTSTART:20250101T000000
END:STANDARD
END:VTIMEZONE
BEGIN:VEVENT
DTSTART;VALUE=DATE:20251206
DTEND;VALUE=DATE:20251207
DTSTAMP:20260425T122510
CREATED:20251119T174359Z
LAST-MODIFIED:20251119T201130Z
UID:14735-1764979200-1765065599@www.montagneselvagge.com
SUMMARY:ESCURSIONE GUIDATA AL TRAMONTO
DESCRIPTION:ESCURSIONE GUIDATA AL TRAMONTO\, CON OSSERVAZIONE DELLA FAUNA SELVATICA E RIENTRO IN NOTTURNA \n\nAll’interno delle nostre escursioni in Abruzzo\, offriamo questa splendida esperienza\, disponibile sia su richiesta che come parte del programma. Un’opportunità imperdibile per esplorare la bellezza incontaminata della regione \n\nSabato 6 dicembre \n\n\nUn’esperienza immersiva nella natura\, tra i colori caldi del tramonto e la magia della notte. Un percorso suggestivo che regalerà emozioni intense e panorami spettacolari. \n\nDETTAGLI  \nAppuntamento: ore 14.00 presso il paese di Forme\, nel comune di Massa D’Albe (Aq)\, il punto preciso verrà comunicato in fase di prenotazione. \nDOVE: Parco Naturale Regionale Sirente Velino LUNGHEZZA: 8 chilometri ca per andata e ritornoDURATA: Circa 4\,5 ore (soste incluse)DISLIVELLO: 250 metri circaDIFFICOLTÀ: E (Escursionistico) \n\n \nDESCRIZIONE DELL’ESPERIENZA \nPartiremo nel pomeriggio\, percorrendo sentieri panoramici immersi nella natura\, nel Parco Naturale Regionale Sirente Velino\, lasciandoci avvolgere dai suoni e dai profumi del paesaggio. Il nostro cammino ci condurrà fino a una vetta che supera di poco i 1300 m\, affrontando una salita finale non molto impegnativa\, con un dislivello di circa 100 m e un percorso di circa 500 m dalla base. Una volta in cima\, da questo punto strategico\, potremo ammirare il tramonto mentre il cielo si tinge di rosso\, arancio e viola\, regalandoci uno spettacolo mozzafiato. \nIl ritorno sarà sullo stesso sentiero dell’andata. Con il calare della notte\, ci lasceremo guidare dal chiarore della luna e dalla luce delle nostre torce frontali. Il buio esalterà i suoni della natura e renderà l’atmosfera ancora più suggestiva. \n \n \n \n \n\nFAUNA E AMBIENTECamminando su un bellissimo sentiero di montagna\, potremo ascoltare i suoni della natura al tramonto. Prima del tramonto\, con l’ausilio di binocoli professionali e macchine fotografiche\, tenteremo di avvistare la fauna selvatica che abita il Parco. \nLa montagna è un ambiente selvaggio\, l’avvistamento degli animali dipende\, oltre che dall’esperienza e dalla conoscenza del luogo da parte della guida\, anche dalla fortuna. La guida condividerà informazioni sulla vita di questi animali con storie e letture. \n\nITINERARIOIl percorso si snoda su sentieri di montagna e carrarecce\, regalando scorci incantevoli sulle valli circostanti. Il rientro in notturna sarà un’esperienza unica\, resa ancora più emozionante dal fascino della luce delle torce che illumina il cammino. \nDurante l’escursione\, la guida fornirà interessanti spiegazioni sulla flora\, fauna e sulle tradizioni della montagna. \n  \n  \n\nEQUIPAGGIAMENTO OBBLIGATORIO \n\nScarpe da trekking\nZaino da montagna\nAbbigliamento a strati (maglietta traspirante\, pile o maglione\, giacca impermeabile)\nPantaloni lunghi e comodi\nCappello e guanti\nBastoncini da trekking (consigliati)\nTorcia frontale o a mano con batterie di riserva\nBorraccia con almeno 1\,5 litro d’acqua\nSnack energetici e frutta secca\nMedicinali personali (se necessari)\n\nNota: È fondamentale vestirsi a strati per adattarsi alle variazioni di temperatura tra il tramonto e la notte. \n\nGUIDA E SICUREZZAL’escursione sarà condotta da un Accompagnatore di Media Montagna e Maestro di Escursionismo\, iscritto al Collegio Regionale delle Guide Alpine Abruzzo e International Mountain Leader UIMLA. \n\nLa guida si riserva il diritto di modificare il programma\, l’itinerario o le modalità di svolgimento dell’escursione per garantire la sicurezza del gruppo\, in base alle condizioni meteorologiche\, alla situazione del percorso o a qualsiasi altra circostanza che possa compromettere la sicurezza dei partecipanti.\nL’escursione sarà annullata in caso di condizioni meteo avverse\nIl programma sarà annullato se non si raggiungerà il numero minimo di partecipanti.\n\n \n \n \n\nCOSTI DELL’ESCURSIONE GUIDATA: \n€ 20 a persona\, comprensivo di escursione guidata a cura di un Accompagnatore di Media Montagna/ Maestro di Escursionismo del Collegio Regionale Guide Alpine Abruzzo\, segreteria\, copertura assicurativa (Rct professionale) per tutta la durata dell’evento. \nMin 5 – Max 15 partecipanti \n\nINFO E PRENOTAZIONIPer ulteriori informazioni e per prenotare la tua esperienza: \nTelefono: 3382717448 (anche WhatsApp) \nEscursioni guidate su richiesta \nRegala un’escursione guidata con Montagne Selvagge \nLa stagione degli amori dei cervi – la magia in un video \nEntra nel nuovo canale WhatsApp di Montagne Selvagge
URL:https://www.montagneselvagge.com/event/escursione-guidata-al-tramonto/
CATEGORIES:Escursione guidata
ATTACH;FMTTYPE=image/jpeg:https://www.montagneselvagge.com/wp-content/uploads/2025/11/Beige-Marrone-Verde-Fotografico-Rustico-Strappato-Montagna-Presentazione-1-1.jpg
ORGANIZER;CN="Ercole%20Wild%20-%20Accompagnatore%20di%20Media%20Montagna%2C%20Maestro%20di%20Escursionismo%20-%20International%20Mountain%20Leader":MAILTO:info@montagneselvagge.com
END:VEVENT
END:VCALENDAR